BEGIN:VCALENDAR
VERSION:2.0
PRODID:-//hacksw/handcal//NONSGML v1.0//EN
BEGIN:VEVENT
SUMMARY:Richelais - FCS2M 2
UID:8e918a7b-9735-4a60-b290-9bec85e82495
DTSTART:20260426T130000Z
DTEND:20260426T150000Z
LOCATION:Localisation   Marigny Marmande
CATEGORIES:Sportif
STATUS:
URL;VALUE=URI:https://fcsaintemauremaille.sportsregions.fr/evenements/2026/04/26/richelais-fcs2m-2-2443218
END:VEVENT
END:VCALENDAR
