BEGIN:VCALENDAR
VERSION:2.0
PRODID:-//hacksw/handcal//NONSGML v1.0//EN
BEGIN:VEVENT
SUMMARY:FCS2M 3 - Perrusson
UID:c2a1ed04-3f5c-4b75-ab42-da1b6a823fd3
DTSTART:20260426T100000Z
DTEND:20260426T120000Z
LOCATION:Localisation 31 Route de Chinon 37800 Ste Maure de Touraine
CATEGORIES:Sportif
STATUS:
URL;VALUE=URI:https://fcsaintemauremaille.sportsregions.fr/evenements/2026/04/26/fcs2m-3-perrusson-2443219
END:VEVENT
END:VCALENDAR
