BEGIN:VCALENDAR
VERSION:2.0
PRODID:-//hacksw/handcal//NONSGML v1.0//EN
BEGIN:VEVENT
SUMMARY:FCS2M 1  - Charge
UID:efb58af8-e868-4727-883e-faae000e65e1
DTSTART:20260426T130000Z
DTEND:20260426T150000Z
LOCATION:Localisation 31 Route de Chinon 37800 Ste Maure de Touraine
CATEGORIES:Sportif
STATUS:
URL;VALUE=URI:https://fcsaintemauremaille.sportsregions.fr/evenements/2026/04/26/fcs2m-1-charge-2443216
END:VEVENT
END:VCALENDAR
